BEGIN:VCALENDAR
VERSION:2.0
PRODID: -//CMS 5.0 //NONSGML //DE
BEGIN:VEVENT
SUMMARY:Gottesdienst - Konfirmation Eleonore Grams
DESCRIPTION:\n\nhttps://warnemuende.nak-nordost.de/db/587637
UID:587637@warnemuende.nak-nordost.de
LOCATION:
CATEGORIES:Gemeinde Warnemünde,Gottesdienst
X-ORGANIZER:
STATUS:CONFIRMED
CLASS:PUBLIC
DTSTART:20260426T080000Z
DTEND:20260426T090000Z
DTSTAMP:20260423T134906Z
CREATED:20260224T083952Z
LAST-MODIFIED:20260224T084037Z
BEGIN:VALARM
UID:32566D44-3F1B-11F1-9ECF-99736F372A87
TRIGGER:-PT60M
ACTION:DISPLAY
DESCRIPTION:SUMMARY:Gottesdienst - Konfirmation Eleonore Grams
END:VALARM
END:VEVENT
END:VCALENDAR
