BEGIN:VCALENDAR
VERSION:2.0
PRODID: -//CMS 5.0 //NONSGML //DE
BEGIN:VEVENT
SUMMARY:Bezirkskindergottesdienst
DESCRIPTION:anschl. Gemeinschaft\n\n\n\nhttps://warnemuende.nak-nordost.
 de/db/595820
UID:595820@warnemuende.nak-nordost.de
LOCATION:
CATEGORIES:Kinder,Kirchenbezirk Rostock,Kirchenbezirk Rostock (Alle Gemeinden),Gemeinde Stralsund,Gottesdienst
X-ORGANIZER:
STATUS:CONFIRMED
CLASS:PUBLIC
DTSTART:20260426T093000Z
DTEND:20260426T120000Z
DTSTAMP:20260423T134913Z
CREATED:20260324T162633Z
LAST-MODIFIED:20260324T162633Z
BEGIN:VALARM
UID:364FC558-3F1B-11F1-B671-3DA46F372A87
TRIGGER:-PT60M
ACTION:DISPLAY
DESCRIPTION:SUMMARY:Bezirkskindergottesdienst
END:VALARM
END:VEVENT
END:VCALENDAR
