BEGIN:VCALENDAR
VERSION:2.0
PRODID: -//CMS 5.0 //NONSGML //DE
BEGIN:VEVENT
SUMMARY:Seniorentag
DESCRIPTION:\n\nhttps://warnemuende.nak-nordost.de/db/595832
UID:595832@warnemuende.nak-nordost.de
LOCATION:
CATEGORIES:Senioren,Gemeinde Rostock,Kirchenbezirk Rostock,Gottesdienst,Kirchenbezirk Rostock (Alle Gemeinden)
X-ORGANIZER:
STATUS:CONFIRMED
CLASS:PUBLIC
DTSTART:20260426T090000Z
DTEND:20260426T120000Z
DTSTAMP:20260423T134913Z
CREATED:20260324T162745Z
LAST-MODIFIED:20260324T162745Z
BEGIN:VALARM
UID:3651ABC0-3F1B-11F1-A6BF-B76C6F372A87
TRIGGER:-PT60M
ACTION:DISPLAY
DESCRIPTION:SUMMARY:Seniorentag
END:VALARM
END:VEVENT
END:VCALENDAR
